BEGIN:VCALENDAR
VERSION:2.0
PRODID:-//Lionjevity Incorporated - ECPv6.15.20//NONSGML v1.0//EN
CALSCALE:GREGORIAN
METHOD:PUBLISH
X-WR-CALNAME:Lionjevity Incorporated
X-ORIGINAL-URL:https://lionjevity.com
X-WR-CALDESC:Events for Lionjevity Incorporated
REFRESH-INTERVAL;VALUE=DURATION:PT1H
X-Robots-Tag:noindex
X-PUBLISHED-TTL:PT1H
BEGIN:VTIMEZONE
TZID:Asia/Shanghai
BEGIN:STANDARD
TZOFFSETFROM:+0800
TZOFFSETTO:+0800
TZNAME:CST
DTSTART:20230101T000000
END:STANDARD
END:VTIMEZONE
BEGIN:VEVENT
DTSTART;TZID=Asia/Shanghai:20240814T183000
DTEND;TZID=Asia/Shanghai:20240814T200000
DTSTAMP:20260420T141906
CREATED:20240814T052436Z
LAST-MODIFIED:20250109T202129Z
UID:1332-1723660200-1723665600@lionjevity.com
SUMMARY:Fundamentals of Funding 2: Flushing Out the Paperwork
DESCRIPTION:📣 Calling all business founders! 🌟 Don’t miss out on an incredible opportunity to master the essentials of funding.\n👉 Save your spot NOW! \n𝐂𝐥𝐢𝐜𝐤 𝐭𝐡𝐞 𝐥𝐢𝐧𝐤 𝐭𝐨 𝐬𝐡𝐨𝐰 𝐲𝐨𝐮𝐫 𝐬𝐮𝐩𝐩𝐨𝐫𝐭:\nhttps://www.paypal.com/donate/?hosted_button_id=EWBMFMKKBV266&source=qr \nJoin us for “𝐅𝐮𝐧𝐝𝐚𝐦𝐞𝐧𝐭𝐚𝐥𝐬 𝐎𝐟 𝐅𝐮𝐧𝐝𝐢𝐧𝐠 𝟐: 𝐅𝐥𝐮𝐬𝐡𝐢𝐧𝐠 𝐎𝐮𝐭 𝐭𝐡𝐞 𝐏𝐚𝐩𝐞𝐫𝐰𝐨𝐫𝐤” 📑\n📅 Date: August 14th\, 2024\n⏰ Time: 6:30 PM – 8:00 PM\n📍 Location: Woodenfish Parents at 18069 SE Division St. Suite 205B. Portland OR 97236 @woodenfishparentsfirst \n👉 Save your spot NOW! \n𝐂𝐥𝐢𝐜𝐤 𝐭𝐡𝐞 𝐥𝐢𝐧𝐤 𝐭𝐨 𝐬𝐡𝐨𝐰 𝐲𝐨𝐮𝐫 𝐬𝐮𝐩𝐩𝐨𝐫𝐭:\nhttps://www.paypal.com/donate/?hosted_button_id=EWBMFMKKBV266&source=qr \n 
URL:https://lionjevity.com/event/%f0%9d%90%85%f0%9d%90%ae%f0%9d%90%a7%f0%9d%90%9d%f0%9d%90%9a%f0%9d%90%a6%f0%9d%90%9e%f0%9d%90%a7%f0%9d%90%ad%f0%9d%90%9a%f0%9d%90%a5%f0%9d%90%ac-%f0%9d%90%8e%f0%9d%90%9f-%f0%9d%90%85%f0%9d%90%ae-2/
LOCATION:9161 SE Foster Suite B2\, Portland\, OR 97266\, 9161 SE Foster Suite B2\, Portland\, 97266\, United States
CATEGORIES:Past Events
ATTACH;FMTTYPE=image/png:https://lionjevity.com/wp-content/uploads/2024/08/Poster-Size-18x24-1.png
END:VEVENT
BEGIN:VEVENT
DTSTART;TZID=Asia/Shanghai:20240713T120000
DTEND;TZID=Asia/Shanghai:20240713T180000
DTSTAMP:20260420T141906
CREATED:20240702T024331Z
LAST-MODIFIED:20250109T220455Z
UID:1288-1720872000-1720893600@lionjevity.com
SUMMARY:Unity In The Community
DESCRIPTION:In dedication to those who have lost a loved one due to senseless gun violence \nhttps://linktr.ee/loveisstrongergv?utm_source=linktree_profile_share&ltsid=9a2f7b8e-df81-49fa-b3d5-07a64c9983a1
URL:https://lionjevity.com/event/unity-in-the-community/
LOCATION:Martin Lurther King Jr School Park\, 4906 NE 6th Ave\, Portland\, OR\, United States
CATEGORIES:Past Events
ATTACH;FMTTYPE=image/png:https://lionjevity.com/wp-content/uploads/2024/07/Unity-in-the-Community-July-13th-2.png
END:VEVENT
BEGIN:VEVENT
DTSTART;TZID=Asia/Shanghai:20240626T183000
DTEND;TZID=Asia/Shanghai:20240626T200000
DTSTAMP:20260420T141906
CREATED:20240814T051839Z
LAST-MODIFIED:20250109T202520Z
UID:1328-1719426600-1719432000@lionjevity.com
SUMMARY:Fundamentals of Funding 1: Successfully Apply for Grants and Lending
DESCRIPTION:📣 Calling all business founders! 🌟 Don’t miss out on an incredible opportunity to master the essentials of funding.\n👉 Save your spot NOW! \nJoin us for “𝐅𝐮𝐧𝐝𝐚𝐦𝐞𝐧𝐭𝐚𝐥𝐬 𝐎𝐟 𝐅𝐮𝐧𝐝𝐢𝐧𝐠 𝟐: 𝐅𝐥𝐮𝐬𝐡𝐢𝐧𝐠 𝐎𝐮𝐭 𝐭𝐡𝐞 𝐏𝐚𝐩𝐞𝐫𝐰𝐨𝐫𝐤” 📑\n📅 Date: June 26th\, 2024\n⏰ Time: 6:30 PM – 8:00 PM\n📍 Location: Woodenfish Parents at 18069 SE Division St. Suite 205B. Portland OR 97236 @woodenfishparentsfirst \n👉 Save your spot NOW! \n𝐂𝐥𝐢𝐜𝐤 𝐭𝐡𝐞 𝐥𝐢𝐧𝐤 𝐭𝐨 𝐬𝐡𝐨𝐰 𝐲𝐨𝐮𝐫 𝐬𝐮𝐩𝐩𝐨𝐫𝐭:\nhttps://www.paypal.com/donate/?hosted_button_id=EWBMFMKKBV266&source=qr
URL:https://lionjevity.com/event/%f0%9d%90%85%f0%9d%90%ae%f0%9d%90%a7%f0%9d%90%9d%f0%9d%90%9a%f0%9d%90%a6%f0%9d%90%9e%f0%9d%90%a7%f0%9d%90%ad%f0%9d%90%9a%f0%9d%90%a5%f0%9d%90%ac-%f0%9d%90%8e%f0%9d%90%9f-%f0%9d%90%85%f0%9d%90%ae/
LOCATION:Woodenfish Parents First\, 18069 SE Division St. Suite 205B\, Portland\, 97236\, United States
CATEGORIES:Past Events
ATTACH;FMTTYPE=image/png:https://lionjevity.com/wp-content/uploads/2024/08/Aug-14-Class-Fundamentals-of-Funding-2nd.png
END:VEVENT
BEGIN:VEVENT
DTSTART;TZID=Asia/Shanghai:20240218T180000
DTEND;TZID=Asia/Shanghai:20240218T190000
DTSTAMP:20260420T141906
CREATED:20240620T212244Z
LAST-MODIFIED:20250109T215540Z
UID:1277-1708279200-1708282800@lionjevity.com
SUMMARY:Lionjevity's Monthly Giving Workshop
DESCRIPTION:One of the easiest ways to start getting really big donations for your organization\, automatically!Lionjevity\, Incorporated is inviting you to our 2nd class of Monthly Giving\, led by Mazarine Treyz.SundayFeb 18th\, 6pm-7pm PSThttps://zoom.us/j/94835876711…
URL:https://lionjevity.com/event/%f0%9d%90%8c%f0%9d%90%a8%f0%9d%90%a7%f0%9d%90%ad%f0%9d%90%a1%f0%9d%90%a5%f0%9d%90%b2-%f0%9d%90%86%f0%9d%90%a2%f0%9d%90%af%f0%9d%90%a2%f0%9d%90%a7%f0%9d%90%a0-%f0%9d%90%8e%f0%9d%90%a7%f0%9d%90%a5/
CATEGORIES:Past Events
ATTACH;FMTTYPE=image/jpeg:https://lionjevity.com/wp-content/uploads/2024/06/428235269_122124205724165952_6268222594798998953_n.jpg
END:VEVENT
END:VCALENDAR